Workbook

Sheet Orçamento Sintético-Não Des
D1: Obra | E1: Bancos | G1: B.D.I.
D2: ESCADA SEDE 1 - 2026 - NÃO DESONERADO | E2: SINAPI - 04/2026 - Distrito Federal | G2: 20,94%
A4: Orçamento Sintético - NÃO DESONERADO
A5: Item | B5: Código | C5: Banco | D5: Descrição | E5: Und | F5: Quant. | G5: Valor Unit | H5: Valor Unit com BDI | I5: Total
A6: 1 | D6: SERVIÇOS PRELIMINARES | F6: 1 | I6: =SUBTOTAL(9,I7:I28) -> 0
A7: 1.1 | D7: CANTEIRO DE OBRA | F7: 1 | I7: =SUBTOTAL(9,I8:I9) -> 0
A8: 1.1.1 | D8: Escritórios | F8: 1 | I8: =SUBTOTAL(9,I9) -> 0
A9: 1.1.1.1 | B9: 00010776 | C9: SINAPI | D9: LOCACAO DE CONTAINER 2,30 X 6,00 M, ALT. 2,50 M, PARA ESCRITORIO, SEM DIVISORIAS INTERNAS E SEM SANITARIO (NAO INCLUI MOBILIZACAO/DESMOBILIZACAO) | E9: MES | F9: 3 | H9: =TRUNC(G9*(1+$G$2),2) -> 0 | I9: =TRUNC(F9*H9,2) -> 0 | K9: =TRUNC(F9*G9,2) -> 0
A10: 1.2 | D10: LIGAÇÃO PROVISÓRIAS | F10: 1 | I10: =SUBTOTAL(9,I11:I19) -> 0
A11: 1.2.1 | D11: ENERGIA ELÉTRICA | F11: 1 | I11: =SUBTOTAL(9,I12:I19) -> 0
A12: 1.2.1.1 | D12: Eletrodutos | F12: 1 | I12: =SUBTOTAL(9,I13) -> 0
A13: 1.2.1.1.1 | B13: 97668 | C13: SINAPI | D13: ELETRODUTO FLEXÍVEL CORRUGADO, PEAD, DN 63 (2"), PARA REDE ENTERRADA DE DISTRIBUIÇÃO DE ENERGIA ELÉTRICA - FORNECIMENTO E INSTALAÇÃO. AF_12/2021 | E13: M | F13: 8 | H13: =TRUNC(G13*(1+$G$2),2) -> 0 | I13: =TRUNC(F13*H13,2) -> 0 | K13: =TRUNC(F13*G13,2) -> 0
A14: 1.2.1.2 | D14: Cabos | F14: 1 | I14: =SUBTOTAL(9,I15:I16) -> 0
A15: 1.2.1.2.1 | B15: 91931 | C15: SINAPI | D15: CABO DE COBRE FLEXÍVEL ISOLADO, 6 MM², ANTI-CHAMA 0,6/1,0 KV, PARA CIRCUITOS TERMINAIS - FORNECIMENTO E INSTALAÇÃO. AF_03/2023 | E15: M | F15: 8 | H15: =TRUNC(G15*(1+$G$2),2) -> 0 | I15: =TRUNC(F15*H15,2) -> 0 | K15: =TRUNC(F15*G15,2) -> 0
A16: 1.2.1.2.2 | B16: 91933 | C16: SINAPI | D16: CABO DE COBRE FLEXÍVEL ISOLADO, 10 MM², ANTI-CHAMA 0,6/1,0 KV, PARA CIRCUITOS TERMINAIS - FORNECIMENTO E INSTALAÇÃO. AF_03/2023 | E16: M | F16: 8 | H16: =TRUNC(G16*(1+$G$2),2) -> 0 | I16: =TRUNC(F16*H16,2) -> 0 | K16: =TRUNC(F16*G16,2) -> 0
A17: 1.2.1.3 | D17: Acessórios | F17: 1 | I17: =SUBTOTAL(9,I18:I19) -> 0
A18: 1.2.1.3.1 | B18: 101871 | C18: SINAPI | D18: QUADRO DE DISTRIBUIÇÃO DE LUZ EM PVC PARA 4 DISJUNTORES - FORNECIMENTO E INSTALAÇÃO. AF_07/2025 | E18: UN | F18: 1 | H18: =TRUNC(G18*(1+$G$2),2) -> 0 | I18: =TRUNC(F18*H18,2) -> 0 | K18: =TRUNC(F18*G18,2) -> 0
A19: 1.2.1.3.2 | B19: 106020 | C19: SINAPI | D19: DISJUNTOR TRIPOLAR DIN 63A - FORNECIMENTO E INSTALAÇÃO. AF_07/2025 | E19: UN | F19: 1 | H19: =TRUNC(G19*(1+$G$2),2) -> 0 | I19: =TRUNC(F19*H19,2) -> 0 | K19: =TRUNC(F19*G19,2) -> 0
A20: 1.3 | D20: PROTEÇÃO E SINALIZAÇÃO | F20: 1 | I20: =SUBTOTAL(9,I21) -> 0
A21: 1.3.1 | B21: 00037524 | C21: SINAPI | D21: TELA PLASTICA LARANJA, TIPO TAPUME PARA SINALIZACAO, MALHA RETANGULAR, ROLO 1.20 X 50 M (L X C) | E21: M | F21: 50.7 | H21: =TRUNC(G21*(1+$G$2),2) -> 0 | I21: =TRUNC(F21*H21,2) -> 0 | K21: =TRUNC(F21*G21,2) -> 0
A22: 1.4 | D22: EQUIPAMENTO | F22: 1 | I22: =SUBTOTAL(9,I23:I24) -> 0
A23: 1.4.1 | B23: 00020193 | C23: SINAPI | D23: LOCACAO DE ANDAIME METALICO TIPO FACHADEIRO, PECAS COM APROXIMADAMENTE 1,20 M DE LARGURA E 2,0 M DE ALTURA, INCLUINDO DIAGONAIS EM X, BARRAS DE LIGACAO, SAPATAS E DEMAIS ITENS NECESSARIOS A MONTAGEM (NAO INCLUI INSTALACAO) | E23: M2XMES | F23: 58.54 | H23: =TRUNC(G23*(1+$G$2),2) -> 0 | I23: =TRUNC(F23*H23,2) -> 0 | K23: =TRUNC(F23*G23,2) -> 0
A24: 1.4.2 | B24: 97063 | C24: SINAPI | D24: MONTAGEM E DESMONTAGEM DE ANDAIME MODULAR FACHADEIRO, COM PISO METÁLICO, PARA EDIFÍCIOS COM MULTIPLOS PAVIMENTOS (EXCLUSIVE ANDAIME E LIMPEZA). AF_03/2024 | E24: m² | F24: 175.63 | H24: =TRUNC(G24*(1+$G$2),2) -> 0 | I24: =TRUNC(F24*H24,2) -> 0 | K24: =TRUNC(F24*G24,2) -> 0
A25: 1.5 | D25: TAXAS | F25: 1 | I25: =SUBTOTAL(9,I26) -> 0
A26: 1.5.1 | B26: CPU-0307-54 | C26: Próprio | D26: ART - ANOTAÇÃO DE RESPONSABILIDADE TÉCNICA | E26: UN | F26: 1 | H26: =TRUNC(G26*(1+$G$2),2) -> 0 | I26: =TRUNC(F26*H26,2) -> 0 | K26: =TRUNC(F26*G26,2) -> 0
A27: 1.6 | D27: PLACA DE OBRA | F27: 1 | I27: =SUBTOTAL(9,I28:I29) -> 0
A28: 1.6.1 | B28: 103689 | C28: ORSE | D28: Placa de obra em chapa aço galvanizado, instalada - Rev 02_01/2022 | E28: m² | F28: 2.88 | H28: =TRUNC(G28*(1+$G$2),2) -> 0 | I28: =TRUNC(F28*H28,2) -> 0 | K28: =TRUNC(F28*G28,2) -> 0
A29: 2 | D29: DEMOLIÇÃO/REMOÇÃO | F29: 1 | I29: =SUBTOTAL(9,I30:I31) -> 0
A30: 2.1 | B30: 97622 | C30: SINAPI | D30: DEMOLIÇÃO DE ALVENARIA DE BLOCO FURADO, DE FORMA MANUAL, SEM REAPROVEITAMENTO. AF_09/2023 | E30: m³ | F30: 3.06 | H30: =TRUNC(G30*(1+$G$2),2) -> 0 | I30: =TRUNC(F30*H30,2) -> 0 | K30: =TRUNC(F30*G30,2) -> 0
A31: 2.2 | B31: 97645 | C31: SINAPI | D31: REMOÇÃO DE JANELAS, DE FORMA MANUAL, SEM REAPROVEITAMENTO. AF_09/2023 | E31: m² | F31: 43.11 | H31: =TRUNC(G31*(1+$G$2),2) -> 0 | I31: =TRUNC(F31*H31,2) -> 0 | K31: =TRUNC(F31*G31,2) -> 0
A32: 3 | D32: FUNDAÇÕES | F32: 1 | I32: =SUBTOTAL(9,I33:I55) -> 0
A33: 3.1 | D33: Blocos | F33: 1 | I33: =SUBTOTAL(9,I34:I41) -> 0
A34: 3.1.1 | B34: 96523 | C34: SINAPI | D34: ESCAVAÇÃO MANUAL PARA BLOCO DE COROAMENTO OU SAPATA (INCLUINDO ESCAVAÇÃO PARA COLOCAÇÃO DE FÔRMAS). AF_01/2024 | E34: m³ | F34: 1.3 | H34: =TRUNC(G34*(1+$G$2),2) -> 0 | I34: =TRUNC(F34*H34,2) -> 0 | K34: =TRUNC(F34*G34,2) -> 0
A35: 3.1.2 | B35: 96545 | C35: SINAPI | D35: ARMAÇÃO DE BLOCO UTILIZANDO AÇO CA-50 DE 8 MM - MONTAGEM. AF_01/2024 | E35: KG | F35: 17.73 | H35: =TRUNC(G35*(1+$G$2),2) -> 0 | I35: =TRUNC(F35*H35,2) -> 0 | K35: =TRUNC(F35*G35,2) -> 0
A36: 3.1.3 | B36: 96546 | C36: SINAPI | D36: ARMAÇÃO DE BLOCO UTILIZANDO AÇO CA-50 DE 10 MM - MONTAGEM. AF_01/2024 | E36: KG | F36: 19.87 | H36: =TRUNC(G36*(1+$G$2),2) -> 0 | I36: =TRUNC(F36*H36,2) -> 0 | K36: =TRUNC(F36*G36,2) -> 0
A37: 3.1.4 | B37: 104920 | C37: SINAPI | D37: ARMAÇÃO DE BLOCO, SAPATA ISOLADA, VIGA BALDRAME E SAPATA CORRIDA UTILIZANDO AÇO CA-50 DE 12,5 MM - MONTAGEM. AF_01/2024 | E37: KG | F37: 67.41 | H37: =TRUNC(G37*(1+$G$2),2) -> 0 | I37: =TRUNC(F37*H37,2) -> 0 | K37: =TRUNC(F37*G37,2) -> 0
A38: 3.1.5 | B38: 96557 | C38: SINAPI | D38: CONCRETAGEM DE BLOCO DE COROAMENTO OU VIGA BALDRAME, FCK 30 MPA, COM USO DE BOMBA - LANÇAMENTO, ADENSAMENTO E ACABAMENTO. AF_01/2024 | E38: m³ | F38: 1.28 | H38: =TRUNC(G38*(1+$G$2),2) -> 0 | I38: =TRUNC(F38*H38,2) -> 0 | K38: =TRUNC(F38*G38,2) -> 0
A39: 3.1.6 | B39: 96531 | C39: SINAPI | D39: FABRICAÇÃO, MONTAGEM E DESMONTAGEM DE FÔRMA PARA BLOCO DE COROAMENTO, EM MADEIRA SERRADA, E=25 MM, 2 UTILIZAÇÕES. AF_01/2024 | E39: m² | F39: 6.24 | H39: =TRUNC(G39*(1+$G$2),2) -> 0 | I39: =TRUNC(F39*H39,2) -> 0 | K39: =TRUNC(F39*G39,2) -> 0
A40: 3.1.7 | B40: 96622 | C40: SINAPI | D40: LASTRO COM MATERIAL GRANULAR, APLICADO EM PISOS OU LAJES SOBRE SOLO, ESPESSURA DE *5 CM*. AF_01/2024 | E40: m³ | F40: 0.12 | H40: =TRUNC(G40*(1+$G$2),2) -> 0 | I40: =TRUNC(F40*H40,2) -> 0 | K40: =TRUNC(F40*G40,2) -> 0
A41: 3.1.8 | B41: 98557 | C41: SINAPI | D41: IMPERMEABILIZAÇÃO DE SUPERFÍCIE COM EMULSÃO ASFÁLTICA, 2 DEMÃOS. AF_09/2023 | E41: m² | F41: 8.52 | H41: =TRUNC(G41*(1+$G$2),2) -> 0 | I41: =TRUNC(F41*H41,2) -> 0 | K41: =TRUNC(F41*G41,2) -> 0
A42: 3.2 | D42: Vigas | F42: 1 | I42: =SUBTOTAL(9,I43:I50) -> 0
A43: 3.2.1 | B43: 96527 | C43: SINAPI | D43: ESCAVAÇÃO MANUAL PARA VIGA BALDRAME OU SAPATA CORRIDA (INCLUINDO ESCAVAÇÃO PARA COLOCAÇÃO DE FÔRMAS). AF_01/2024 | E43: m³ | F43: 0.4 | H43: =TRUNC(G43*(1+$G$2),2) -> 0 | I43: =TRUNC(F43*H43,2) -> 0 | K43: =TRUNC(F43*G43,2) -> 0
A44: 3.2.2 | B44: 98557 | C44: SINAPI | D44: IMPERMEABILIZAÇÃO DE SUPERFÍCIE COM EMULSÃO ASFÁLTICA, 2 DEMÃOS. AF_09/2023 | E44: m² | F44: 1.14 | H44: =TRUNC(G44*(1+$G$2),2) -> 0 | I44: =TRUNC(F44*H44,2) -> 0 | K44: =TRUNC(F44*G44,2) -> 0
A45: 3.2.3 | B45: 96622 | C45: SINAPI | D45: LASTRO COM MATERIAL GRANULAR, APLICADO EM PISOS OU LAJES SOBRE SOLO, ESPESSURA DE *5 CM*. AF_01/2024 | E45: m³ | F45: 0.02 | H45: =TRUNC(G45*(1+$G$2),2) -> 0 | I45: =TRUNC(F45*H45,2) -> 0 | K45: =TRUNC(F45*G45,2) -> 0
A46: 3.2.4 | B46: 92265 | C46: SINAPI | D46: FABRICAÇÃO DE FÔRMA PARA VIGAS, EM CHAPA DE MADEIRA COMPENSADA RESINADA, E = 17 MM. AF_09/2020 | E46: m² | F46: 0.91 | H46: =TRUNC(G46*(1+$G$2),2) -> 0 | I46: =TRUNC(F46*H46,2) -> 0 | K46: =TRUNC(F46*G46,2) -> 0
A47: 3.2.5 | B47: 96557 | C47: SINAPI | D47: CONCRETAGEM DE BLOCO DE COROAMENTO OU VIGA BALDRAME, FCK 30 MPA, COM USO DE BOMBA - LANÇAMENTO, ADENSAMENTO E ACABAMENTO. AF_01/2024 | E47: m³ | F47: 0.35 | H47: =TRUNC(G47*(1+$G$2),2) -> 0 | I47: =TRUNC(F47*H47,2) -> 0 | K47: =TRUNC(F47*G47,2) -> 0
A48: 3.2.6 | B48: 104917 | C48: SINAPI | D48: ARMAÇÃO DE SAPATA ISOLADA, VIGA BALDRAME E SAPATA CORRIDA UTILIZANDO AÇO CA-50 DE 6,3 MM - MONTAGEM. AF_01/2024 | E48: KG | F48: 1.94 | H48: =TRUNC(G48*(1+$G$2),2) -> 0 | I48: =TRUNC(F48*H48,2) -> 0 | K48: =TRUNC(F48*G48,2) -> 0
A49: 3.2.7 | B49: 104919 | C49: SINAPI | D49: ARMAÇÃO DE SAPATA ISOLADA, VIGA BALDRAME E SAPATA CORRIDA UTILIZANDO AÇO CA-50 DE 10 MM - MONTAGEM. AF_01/2024 | E49: KG | F49: 6.47 | H49: =TRUNC(G49*(1+$G$2),2) -> 0 | I49: =TRUNC(F49*H49,2) -> 0 | K49: =TRUNC(F49*G49,2) -> 0
A50: 3.2.8 | B50: 104920 | C50: SINAPI | D50: ARMAÇÃO DE BLOCO, SAPATA ISOLADA, VIGA BALDRAME E SAPATA CORRIDA UTILIZANDO AÇO CA-50 DE 12,5 MM - MONTAGEM. AF_01/2024 | E50: KG | F50: 10.11 | H50: =TRUNC(G50*(1+$G$2),2) -> 0 | I50: =TRUNC(F50*H50,2) -> 0 | K50: =TRUNC(F50*G50,2) -> 0
A51: 3.3 | D51: Estaca | F51: 1 | I51: =SUBTOTAL(9,I52:I55) -> 0
A52: 3.3.1 | B52: ED-29802 | C52: SETOP | D52: PERFURAÇÃO MECÂNICA DE ESTACA TIPO TRADO ROTATIVO, INCLUSIVE AFASTAMENTO LATERAL, EXCLUSIVE ARMAÇÃO, CONCRETO ESTRUTURAL, TRANSPORTE E RETIRADA DO MATERIAL ESCAVADO | E52: m³ | F52: 6.1 | H52: =TRUNC(G52*(1+$G$2),2) -> 0 | I52: =TRUNC(F52*H52,2) -> 0 | K52: =TRUNC(F52*G52,2) -> 0
A53: 3.3.2 | B53: 95584 | C53: SINAPI | D53: MONTAGEM DE ARMADURA TRANSVERSAL DE ESTACAS DE SEÇÃO CIRCULAR, DIÂMETRO = 6,30 MM. AF_09/2021_PS | E53: KG | F53: 44.39 | H53: =TRUNC(G53*(1+$G$2),2) -> 0 | I53: =TRUNC(F53*H53,2) -> 0 | K53: =TRUNC(F53*G53,2) -> 0
A54: 3.3.3 | B54: 95578 | C54: SINAPI | D54: MONTAGEM DE ARMADURA DE ESTACAS, DIÂMETRO = 12,5 MM. AF_09/2021_PS | E54: KG | F54: 297.35 | H54: =TRUNC(G54*(1+$G$2),2) -> 0 | I54: =TRUNC(F54*H54,2) -> 0 | K54: =TRUNC(F54*G54,2) -> 0
A55: 3.3.4 | B55: 96558 | C55: SINAPI | D55: CONCRETAGEM DE SAPATA, FCK 30 MPA, COM USO DE BOMBA - LANÇAMENTO, ADENSAMENTO E ACABAMENTO. AF_01/2024 | E55: m³ | F55: 6.097 | H55: =TRUNC(G55*(1+$G$2),2) -> 0 | I55: =TRUNC(F55*H55,2) -> 0 | K55: =TRUNC(F55*G55,2) -> 0
A56: 4 | D56: ESTRUTURA METÁLICA | F56: 1 | I56: =SUBTOTAL(9,I57:I68) -> 0
A57: 4.1 | B57: CPU-0307-72 | C57: Próprio | D57: VIGA METÁLICA EM PERFIL LAMINADO OU SOLDADO EM AÇO ESTRUTURAL, COM CONEXÕES SOLDADAS, INCLUSOS MÃO DE OBRA, TRANSPORTE E IÇAMENTO UTILIZANDO GUINDASTE - FORNECIMENTO E INSTALAÇÃO_Refência_SINAPI (100764)_12/2024 | E57: KG | F57: 1931.6 | H57: =TRUNC(G57*(1+$G$2),2) -> 0 | I57: =TRUNC(F57*H57,2) -> 0 | K57: =TRUNC(F57*G57,2) -> 0
A58: 4.2 | B58: CPU-0307-73 | C58: Próprio | D58: PILAR METÁLICO PERFIL LAMINADO OU SOLDADO EM AÇO ESTRUTURAL, COM CONEXÕES SOLDADAS, INCLUSOS MÃO DE OBRA, TRANSPORTE E IÇAMENTO UTILIZANDO GUINDASTE - FORNECIMENTO E INSTALAÇÃO_Refência_SINAPI (100766)_12/2024 | E58: KG | F58: 642.7 | H58: =TRUNC(G58*(1+$G$2),2) -> 0 | I58: =TRUNC(F58*H58,2) -> 0 | K58: =TRUNC(F58*G58,2) -> 0
A59: 4.3 | B59: 00001337 | C59: SINAPI | D59: CHAPA DE ACO XADREZ PARA PISOS, E = 1/4" (6,30 MM) 54,53 KG/M2 | E59: KG | F59: 3549.1 | H59: =TRUNC(G59*(1+$G$2),2) -> 0 | I59: =TRUNC(F59*H59,2) -> 0 | K59: =TRUNC(F59*G59,2) -> 0
A60: 4.4 | B60: CPU-0307-91 | C60: Próprio | D60: GUARDA-CORPO DE AÇO GALVANIZADO 1,05M, MONTANTES TUBULARES DE 60x40x2,0mm ESPAÇADOS DE 1,00M, CORRIMÃO DE 1.3/8", GRADIL EM TELA ARTÍSTICA DE 1", FIO 12 (Ref SINAPI 106213) | E60: M | F60: 59.6 | H60: =TRUNC(G60*(1+$G$2),2) -> 0 | I60: =TRUNC(F60*H60,2) -> 0 | K60: =TRUNC(F60*G60,2) -> 0
A61: 4.5 | B61: 99855 | C61: SINAPI | D61: CORRIMÃO SIMPLES FIXADO EM PAREDE, DIÂMETRO EXTERNO = 1 1/2", EM AÇO GALVANIZADO. AF_10/2025_PS | E61: M | F61: 23.4 | H61: =TRUNC(G61*(1+$G$2),2) -> 0 | I61: =TRUNC(F61*H61,2) -> 0 | K61: =TRUNC(F61*G61,2) -> 0
A62: 4.6 | B62: CPU-0307-92 | C62: Próprio | D62: CHAPA DE ACO #14 (2,00mm) SOBRE VALA (Ref.: SNAPI 84126) | E62: m² | F62: 9.14 | H62: =TRUNC(G62*(1+$G$2),2) -> 0 | I62: =TRUNC(F62*H62,2) -> 0 | K62: =TRUNC(F62*G62,2) -> 0
A63: 4.7 | D63: Base de Placas e Ancoragens | F63: 1 | I63: =SUBTOTAL(9,I64:I68) -> 0
A64: 4.7.1 | B64: CPU-0307-86 | C64: Próprio | D64: BASE PARA FIXACAO TIPO ANCORAGENS TIPO 1 (600) | E64: UN | F64: 8 | H64: =TRUNC(G64*(1+$G$2),2) -> 0 | I64: =TRUNC(F64*H64,2) -> 0 | K64: =TRUNC(F64*G64,2) -> 0
A65: 4.7.2 | B65: CPU-0307-90 | C65: Próprio | D65: BASE PARA FIXACAO TIPO ANCORAGENS TIPO 2 (602) | E65: UN | F65: 12 | H65: =TRUNC(G65*(1+$G$2),2) -> 0 | I65: =TRUNC(F65*H65,2) -> 0 | K65: =TRUNC(F65*G65,2) -> 0
A66: 4.7.3 | B66: CPU-0307-87 | C66: Próprio | D66: TIPO 1 BASE PARA FIXACAO DE PILAR_SBC 100305 | E66: UN | F66: 1 | H66: =TRUNC(G66*(1+$G$2),2) -> 0 | I66: =TRUNC(F66*H66,2) -> 0 | K66: =TRUNC(F66*G66,2) -> 0
A67: 4.7.4 | B67: CPU-0307-88 | C67: Próprio | D67: TIPO 2 BASE PARA FIXACAO DE PILAR_SBC 100305 | E67: UN | F67: 1 | H67: =TRUNC(G67*(1+$G$2),2) -> 0 | I67: =TRUNC(F67*H67,2) -> 0 | K67: =TRUNC(F67*G67,2) -> 0
A68: 4.7.5 | B68: CPU-0307-89 | C68: Próprio | D68: TIPO 3 BASE PARA FIXACAO DE PILAR_SBC 100305 | E68: UN | F68: 1 | H68: =TRUNC(G68*(1+$G$2),2) -> 0 | I68: =TRUNC(F68*H68,2) -> 0 | K68: =TRUNC(F68*G68,2) -> 0
A69: 5 | D69: VEDAÇÃO | F69: 1 | I69: =SUBTOTAL(9,I70:I77) -> 0
A70: 5.1 | D70: PAREDE | F70: 1 | I70: =SUBTOTAL(9,I71:I74) -> 0
A71: 5.1.1 | B71: 103342 | C71: SINAPI | D71: ALVENARIA DE VEDAÇÃO DE BLOCOS VAZADOS DE CONCRETO DE 14X19X29 CM (ESPESSURA 14 CM) E ARGAMASSA DE ASSENTAMENTO COM PREPARO EM BETONEIRA. AF_12/2021 | E71: m² | F71: 37.31 | H71: =TRUNC(G71*(1+$G$2),2) -> 0 | I71: =TRUNC(F71*H71,2) -> 0 | K71: =TRUNC(F71*G71,2) -> 0
A72: 5.1.2 | B72: 87879 | C72: SINAPI | D72: CHAPISCO APLICADO EM ALVENARIAS E ESTRUTURAS DE CONCRETO INTERNAS, COM COLHER DE PEDREIRO. ARGAMASSA TRAÇO 1:3 COM PREPARO EM BETONEIRA 400L. AF_10/2022 | E72: m² | F72: 37.31 | H72: =TRUNC(G72*(1+$G$2),2) -> 0 | I72: =TRUNC(F72*H72,2) -> 0 | K72: =TRUNC(F72*G72,2) -> 0
A73: 5.1.3 | B73: 87894 | C73: SINAPI | D73: CHAPISCO APLICADO EM ALVENARIA (SEM PRESENÇA DE VÃOS) E ESTRUTURAS DE CONCRETO DE FACHADA, COM COLHER DE PEDREIRO. ARGAMASSA TRAÇO 1:3 COM PREPARO EM BETONEIRA 400L. AF_10/2022 | E73: m² | F73: 37.31 | H73: =TRUNC(G73*(1+$G$2),2) -> 0 | I73: =TRUNC(F73*H73,2) -> 0 | K73: =TRUNC(F73*G73,2) -> 0
A74: 5.1.4 | B74: 104233 | C74: SINAPI | D74: EMBOÇO OU MASSA ÚNICA EM ARGAMASSA TRAÇO 1:2:8, PREPARO MECÂNICA COM BETONEIRA 400 L, APLICADA MANUALMENTE EM PANOS DE FACHADA SEM PRESENÇA DE VÃOS, ESPESSURA DE 25 MM, ACESSO POR ANDAIME. AF_08/2022 | E74: m² | F74: 74.62 | H74: =TRUNC(G74*(1+$G$2),2) -> 0 | I74: =TRUNC(F74*H74,2) -> 0 | K74: =TRUNC(F74*G74,2) -> 0
A75: 5.2 | D75: PORTAS | F75: 1 | I75: =SUBTOTAL(9,I76:I77) -> 0
A76: 5.2.1 | B76: 90838 | C76: SINAPI | D76: PORTA CORTA-FOGO 90X210X4CM - FORNECIMENTO E INSTALAÇÃO. AF_10/2025 | E76: UN | F76: 4 | H76: =TRUNC(G76*(1+$G$2),2) -> 0 | I76: =TRUNC(F76*H76,2) -> 0 | K76: =TRUNC(F76*G76,2) -> 0
A77: 5.2.2 | B77: 105024 | C77: SINAPI | D77: VERGA MOLDADA IN LOCO EM CONCRETO, ESPESSURA DE *10* CM. AF_03/2024 | E77: M | F77: 4 | H77: =TRUNC(G77*(1+$G$2),2) -> 0 | I77: =TRUNC(F77*H77,2) -> 0 | K77: =TRUNC(F77*G77,2) -> 0
A78: 6 | D78: PINTURA | F78: 1 | I78: =SUBTOTAL(9,I79:I85) -> 0
A79: 6.1 | D79: ESTRUTURA | F79: 1 | I79: =SUBTOTAL(9,I80:I81) -> 0
A80: 6.1.1 | B80: 100720 | C80: SINAPI | D80: PINTURA COM TINTA ALQUÍDICA DE FUNDO (TIPO ZARCÃO) APLICADA A ROLO OU PINCEL SOBRE PERFIL METÁLICO EXECUTADO EM FÁBRICA (POR DEMÃO). AF_01/2020 | E80: m² | F80: 421.62 | H80: =TRUNC(G80*(1+$G$2),2) -> 0 | I80: =TRUNC(F80*H80,2) -> 0 | K80: =TRUNC(F80*G80,2) -> 0
A81: 6.1.2 | B81: 100739 | C81: SINAPI | D81: PINTURA COM TINTA ALQUÍDICA DE ACABAMENTO (ESMALTE SINTÉTICO ACETINADO) PULVERIZADA SOBRE PERFIL METÁLICO EXECUTADO EM FÁBRICA (POR DEMÃO). AF_01/2020_PE | E81: m² | F81: 325.89 | H81: =TRUNC(G81*(1+$G$2),2) -> 0 | I81: =TRUNC(F81*H81,2) -> 0 | K81: =TRUNC(F81*G81,2) -> 0
A82: 6.2 | D82: PAREDE | F82: 1 | I82: =SUBTOTAL(9,I83:I85) -> 0
A83: 6.2.1 | B83: 96132 | C83: SINAPI | D83: APLICAÇÃO MANUAL DE MASSA ACRÍLICA EM PANOS DE FACHADA SEM PRESENÇA DE VÃOS, DE EDIFÍCIOS DE MÚLTIPLOS PAVIMENTOS, DUAS DEMÃOS. AF_03/2024 | E83: m² | F83: 37.31 | H83: =TRUNC(G83*(1+$G$2),2) -> 0 | I83: =TRUNC(F83*H83,2) -> 0 | K83: =TRUNC(F83*G83,2) -> 0
A84: 6.2.2 | B84: 88497 | C84: SINAPI | D84: EMASSAMENTO COM MASSA LÁTEX, APLICAÇÃO EM PAREDE, DUAS DEMÃOS, LIXAMENTO MANUAL. AF_04/2023 | E84: m² | F84: 37.31 | H84: =TRUNC(G84*(1+$G$2),2) -> 0 | I84: =TRUNC(F84*H84,2) -> 0 | K84: =TRUNC(F84*G84,2) -> 0
A85: 6.2.3 | B85: 88489 | C85: SINAPI | D85: PINTURA LÁTEX ACRÍLICA PREMIUM, APLICAÇÃO MANUAL EM PAREDES, DUAS DEMÃOS. AF_04/2023 | E85: m² | F85: 162.2 | H85: =TRUNC(G85*(1+$G$2),2) -> 0 | I85: =TRUNC(F85*H85,2) -> 0 | K85: =TRUNC(F85*G85,2) -> 0
A86: 7 | D86: DIVERSOS | F86: 1 | I86: =SUBTOTAL(9,I87:I87) -> 0
A87: 7.1 | B87: 94990 | C87: SINAPI | D87: EXECUÇÃO DE PASSEIO (CALÇADA) OU PISO DE CONCRETO COM CONCRETO MOLDADO IN LOCO, FEITO EM OBRA, ACABAMENTO CONVENCIONAL, NÃO ARMADO. AF_08/2022 | E87: m³ | F87: 0.79 | H87: =TRUNC(G87*(1+$G$2),2) -> 0 | I87: =TRUNC(F87*H87,2) -> 0 | K87: =TRUNC(F87*G87,2) -> 0
A88: 8 | D88: SERVIÇOS AUXILIARES E ADMINISTRATIVOS | F88: 1 | I88: =SUBTOTAL(9,I89:I92) -> 0
A89: 8.1 | D89: ADMINISTRAÇÃO | F89: 1 | I89: =SUBTOTAL(9,I90:I92) -> 0
A90: 8.1.1 | B90: 93567 | C90: SINAPI | D90: ENGENHEIRO CIVIL DE OBRA PLENO COM ENCARGOS COMPLEMENTARES | E90: MES | F90: 1.5 | H90: =TRUNC(G90*(1+$G$2),2) -> 0 | I90: =TRUNC(F90*H90,2) -> 0 | K90: =TRUNC(F90*G90,2) -> 0
A91: 8.1.2 | B91: 100321 | C91: SINAPI | D91: TÉCNICO EM SEGURANÇA DO TRABALHO COM ENCARGOS COMPLEMENTARES | E91: MES | F91: 3 | H91: =TRUNC(G91*(1+$G$2),2) -> 0 | I91: =TRUNC(F91*H91,2) -> 0 | K91: =TRUNC(F91*G91,2) -> 0
A92: 8.1.3 | B92: 93572 | C92: SINAPI | D92: ENCARREGADO GERAL DE OBRAS COM ENCARGOS COMPLEMENTARES | E92: MES | F92: 3 | H92: =TRUNC(G92*(1+$G$2),2) -> 0 | I92: =TRUNC(F92*H92,2) -> 0 | K92: =TRUNC(F92*G92,2) -> 0
A93: 9 | D93: LIMPEZA | F93: 1 | I93: =SUBTOTAL(9,I94) -> 0
A94: 9.1 | B94: CPU-0307-57 | C94: Próprio | D94: ENTULHO CONTAINER - MÊS | E94: MÊS | F94: 3 | H94: =TRUNC(G94*(1+$G$2),2) -> 0 | I94: =TRUNC(F94*H94,2) -> 0 | K94: =TRUNC(F94*G94,2) -> 0
F96: Total sem BDI | I96: =SUM(K7:K94) -> 0
F97: Total do BDI | I97: =I98-I96 -> 0
F98: Total Geral | I98: =SUBTOTAL(9,I6:I94) -> 0

Sheet Resumo Orçamento
B2: =[2]DADOS!D5 -> COORDENAÇÃO DE ENGENHARIA E ARQUITETURA
C3: =[1]DADOS!B16 -> CONSTRUÇÃO DE ESCADA DE EMERGÊNCIA DO ED. SEDE DA SSP/DF
B5: Endereço: | C5: =[1]DADOS!B19 -> SAM, CONJUNTO A, BLOCO A, ASA NORTE, ED. SEDE DA SSP/DF
B6: Referência: | C6: =[1]DADOS!B31 -> SINAPI 04/2026 - NÃO DESONERADO - DF
B8: CÓDIGO | C8: ITEM | D8: PREÇO NÃO DESONERADO (CUSTO + BDI) | E8: Peso (%) | G8: ='Orçamento Sintético-Não Des'!L5 -> 0
B9: 1 | C9: =VLOOKUP($B9,'[1]Orçamento Sintético-Não Des'!$A:$I,4,0) -> SERVIÇOS PRELIMINARES | D9: =VLOOKUP($B9,'Orçamento Sintético-Não Des'!$A:$I,9,0) -> 0 | E9: =D9/$D$18 -> #DIV/0!
B10: 2 | C10: =VLOOKUP($B10,'[1]Orçamento Sintético-Não Des'!$A:$I,4,0) -> DEMOLIÇÃO/REMOÇÃO | D10: =VLOOKUP($B10,'Orçamento Sintético-Não Des'!$A:$I,9,0) -> 0 | E10: =D10/$D$18 -> #DIV/0!
B11: 3 | C11: =VLOOKUP($B11,'[1]Orçamento Sintético-Não Des'!$A:$I,4,0) -> FUNDAÇÕES | D11: =VLOOKUP($B11,'Orçamento Sintético-Não Des'!$A:$I,9,0) -> 0 | E11: =D11/$D$18 -> #DIV/0!
B12: 4 | C12: =VLOOKUP($B12,'[1]Orçamento Sintético-Não Des'!$A:$I,4,0) -> ESTRUTURA METÁLICA | D12: =VLOOKUP($B12,'Orçamento Sintético-Não Des'!$A:$I,9,0) -> 0 | E12: =D12/$D$18 -> #DIV/0!
B13: 5 | C13: =VLOOKUP($B13,'[1]Orçamento Sintético-Não Des'!$A:$I,4,0) -> VEDAÇÃO | D13: =VLOOKUP($B13,'Orçamento Sintético-Não Des'!$A:$I,9,0) -> 0 | E13: =D13/$D$18 -> #DIV/0!
B14: 6 | C14: =VLOOKUP($B14,'[1]Orçamento Sintético-Não Des'!$A:$I,4,0) -> PINTURA | D14: =VLOOKUP($B14,'Orçamento Sintético-Não Des'!$A:$I,9,0) -> 0 | E14: =D14/$D$18 -> #DIV/0!
B15: 7 | C15: =VLOOKUP($B15,'[1]Orçamento Sintético-Não Des'!$A:$I,4,0) -> DIVERSOS | D15: =VLOOKUP($B15,'Orçamento Sintético-Não Des'!$A:$I,9,0) -> 0 | E15: =D15/$D$18 -> #DIV/0!
B16: 8 | C16: =VLOOKUP($B16,'[1]Orçamento Sintético-Não Des'!$A:$I,4,0) -> SERVIÇOS AUXILIARES E ADMINISTRATIVOS | D16: =VLOOKUP($B16,'Orçamento Sintético-Não Des'!$A:$I,9,0) -> 0 | E16: =D16/$D$18 -> #DIV/0!
B17: 9 | C17: =VLOOKUP($B17,'[1]Orçamento Sintético-Não Des'!$A:$I,4,0) -> LIMPEZA | D17: =VLOOKUP($B17,'Orçamento Sintético-Não Des'!$A:$I,9,0) -> 0 | E17: =D17/$D$18 -> #DIV/0!
C18: TOTAL | D18: =SUM(D9:D17) -> 0 | E18: =D18/$D$18 -> #DIV/0!

Sheet CRONOGRAMA
C1: CRONOGRAMA FÍSICO - FINANCEIRO
C2: ="PROPRIETÁRIO: "&[1]DADOS!B13 -> PROPRIETÁRIO: SECRETARIA DE ESTADO DE SEGURANÇA PÚBLICA DO DIDTRITO FEDERAL-SSP | G2: Ref.: | H2: =[1]DADOS!B31 -> SINAPI 04/2026 - NÃO DESONERADO - DF
C3: ="OBRA: "&[1]DADOS!B16 -> OBRA: CONSTRUÇÃO DE ESCADA DE EMERGÊNCIA DO ED. SEDE DA SSP/DF | G3: Data: | H3: =[1]DADOS!N25 -> 46170
C4: ="ENDEREÇO: "&+""&[1]DADOS!B19 -> ENDEREÇO: SAM, CONJUNTO A, BLOCO A, ASA NORTE, ED. SEDE DA SSP/DF
B6: Item | C6: Serviços | D6: Valor (R$) | F6: Mês 1 | G6: Mês 2 | H6: Mês 3 | I6: TOTAL
B8: 1 | C8: =VLOOKUP(B8,'Orçamento Sintético-Não Des'!$A:$I,4,0) -> SERVIÇOS PRELIMINARES | D8: =VLOOKUP(B8,'Orçamento Sintético-Não Des'!$A:$I,9,0) -> 0 | F8: =F9 -> 0 | G8: =G9 -> 0 | H8: =H9 -> 0 | I8: =I9 -> 0 | K8: =IF(D8=I8,"ok","errado") -> ok
D9: =D8 -> 0 | E9: P | F9: =$D$9*F11 -> 0 | G9: =$D$9*G11 -> 0 | H9: =$D$9*H11 -> 0 | I9: =SUM(F9:H9) -> 0 | K9: =IF(D9=I9,"ok","errado") -> ok
F10: =IF(F11<>0,"x","") | G10: =IF(G11<>0,"x","") | H10: =IF(H11<>0,"x","") | M10: '
E11: % | F11: 0 | G11: 0 | H11: 0 | K11: =SUM(F11:H11) -> 0
B12: 2 | C12: =VLOOKUP(B12,'Orçamento Sintético-Não Des'!$A:$I,4,0) -> DEMOLIÇÃO/REMOÇÃO | D12: =VLOOKUP(B12,'Orçamento Sintético-Não Des'!$A:$I,9,0) -> 0 | F12: =F13 -> 0 | G12: =G13 -> 0 | H12: =H13 -> 0 | I12: =SUM(I13:I13) -> 0 | K12: =IF(D12=I12,"ok","errado") -> ok
D13: =D12 -> 0 | E13: P | F13: =$D$13*F15 -> 0 | G13: =$D$13*G15 -> 0 | H13: =$D$13*H15 -> 0 | I13: =SUM(F13:H13) -> 0 | K13: =IF(D13=I13,"ok","errado") -> ok
F14: =IF(F15<>0,"x","") | G14: =IF(G15<>0,"x","") | H14: =IF(H15<>0,"x","")
E15: % | F15: 0 | G15: 0 | H15: 0 | K15: =SUM(F15:H15) -> 0
B16: 3 | C16: =VLOOKUP(B16,'Orçamento Sintético-Não Des'!$A:$I,4,0) -> FUNDAÇÕES | D16: =VLOOKUP(B16,'Orçamento Sintético-Não Des'!$A:$I,9,0) -> 0 | F16: =F17 -> 0 | G16: =G17 -> 0 | H16: =H17 -> 0 | I16: =SUM(I17:I19) -> 0 | K16: =IF(D16=I16,"ok","errado") -> ok
D17: =D16 -> 0 | E17: P | F17: =$D$17*F19 -> 0 | G17: =$D$17*G19 -> 0 | H17: =$D$17*H19 -> 0 | I17: =SUM(F17:H17) -> 0 | K17: =IF(D17=I17,"ok","errado") -> ok
F18: =IF(F19<>0,"x","") | G18: =IF(G19<>0,"x","") | H18: =IF(H19<>0,"x","")
E19: % | F19: 0 | G19: 0 | H19: 0 | K19: =SUM(F19:H19) -> 0
B20: 4 | C20: =VLOOKUP(B20,'Orçamento Sintético-Não Des'!$A:$I,4,0) -> ESTRUTURA METÁLICA | D20: =VLOOKUP(B20,'Orçamento Sintético-Não Des'!$A:$I,9,0) -> 0 | F20: =F21 -> 0 | G20: =G21 -> 0 | H20: =H21 -> 0 | I20: =SUM(I21:I23) -> 0 | K20: =IF(D20=I20,"ok","errado") -> ok
D21: =D20 -> 0 | E21: P | F21: =$D$21*F23 -> 0 | G21: =$D$21*G23 -> 0 | H21: =$D$21*H23 -> 0 | I21: =SUM(F21:H21) -> 0 | K21: =IF(D21=I21,"ok","errado") -> ok
F22: =IF(F23<>0,"x","") | G22: =IF(G23<>0,"x","") | H22: =IF(H23<>0,"x","")
E23: % | F23: 0 | G23: 0 | H23: 0 | K23: =SUM(F23:H23) -> 0
B24: 5 | C24: =VLOOKUP(B24,'Orçamento Sintético-Não Des'!$A:$I,4,0) -> VEDAÇÃO | D24: =VLOOKUP(B24,'Orçamento Sintético-Não Des'!$A:$I,9,0) -> 0 | F24: =F25 -> 0 | G24: =G25 -> 0 | H24: =H25 -> 0 | I24: =SUM(I25:I27) -> 0 | K24: =IF(D24=I24,"ok","errado") -> ok
D25: =D24 -> 0 | E25: P | F25: =$D$25*F27 -> 0 | G25: =$D$25*G27 -> 0 | H25: =$D$25*H27 -> 0 | I25: =SUM(F25:H25) -> 0 | K25: =IF(D25=I25,"ok","errado") -> ok
F26: =IF(F27<>0,"x","") | G26: =IF(G27<>0,"x","") | H26: =IF(H27<>0,"x","")
E27: % | F27: 0 | G27: 0 | H27: 0 | K27: =SUM(F27:H27) -> 0
B28: 6 | C28: =VLOOKUP(B28,'Orçamento Sintético-Não Des'!$A:$I,4,0) -> PINTURA | D28: =VLOOKUP(B28,'Orçamento Sintético-Não Des'!$A:$I,9,0) -> 0 | F28: =F29 -> 0 | G28: =G29 -> 0 | H28: =H29 -> 0 | I28: =SUM(I29:I31) -> 0 | K28: =IF(D28=I28,"ok","errado") -> ok
D29: =D28 -> 0 | E29: P | F29: =$D$17*F31 -> 0 | G29: =$D$17*G31 -> 0 | H29: =$D$29*H31 -> 0 | I29: =SUM(F29:H29) -> 0 | K29: =IF(D29=I29,"ok","errado") -> ok
F30: =IF(F31<>0,"x","") | G30: =IF(G31<>0,"x","") | H30: =IF(H31<>0,"x","")
E31: % | F31: 0 | G31: 0 | H31: 0 | K31: =SUM(F31:H31) -> 0
B32: 7 | C32: =VLOOKUP(B32,'Orçamento Sintético-Não Des'!$A:$I,4,0) -> DIVERSOS | D32: =VLOOKUP(B32,'Orçamento Sintético-Não Des'!$A:$I,9,0) -> 0 | F32: =F33 -> 0 | G32: =G33 -> 0 | H32: =H33 -> 0 | I32: =SUM(I33:I35) -> 0 | K32: =IF(D32=I32,"ok","errado") -> ok
D33: =D32 -> 0 | E33: P | F33: =$D$17*F35 -> 0 | G33: =$D$17*G35 -> 0 | H33: =$D$33*H35 -> 0 | I33: =SUM(F33:H33) -> 0 | K33: =IF(D33=I33,"ok","errado") -> ok
F34: =IF(F35<>0,"x","") | G34: =IF(G35<>0,"x","") | H34: =IF(H35<>0,"x","")
E35: % | F35: 0 | G35: 0 | H35: 0 | K35: =SUM(F35:H35) -> 0
B36: 8 | C36: =VLOOKUP(B36,'Orçamento Sintético-Não Des'!$A:$I,4,0) -> SERVIÇOS AUXILIARES E ADMINISTRATIVOS | D36: =VLOOKUP(B36,'Orçamento Sintético-Não Des'!$A:$I,9,0) -> 0 | F36: =F37 -> 0 | G36: =G37 -> 0 | H36: =H37 -> 0 | I36: =SUM(I37:I39) -> 0 | K36: =IF(D36=I36,"ok","errado") -> ok
D37: =D36 -> 0 | E37: P | F37: =$D$37*F39 -> 0 | G37: =$D$37*G39 -> 0 | H37: =$D$37*H39 -> 0 | I37: =SUM(F37:H37) -> 0 | K37: =IF(D37=I37,"ok","errado") -> ok
F38: =IF(F39<>0,"x","") | G38: =IF(G39<>0,"x","") | H38: =IF(H39<>0,"x","")
E39: % | F39: 0 | G39: 0 | H39: 0 | K39: =SUM(F39:H39) -> 0
B40: 9 | C40: =VLOOKUP(B40,'Orçamento Sintético-Não Des'!$A:$I,4,0) -> LIMPEZA | D40: =VLOOKUP(B40,'Orçamento Sintético-Não Des'!$A:$I,9,0) -> 0 | F40: =F41 -> 0 | G40: =G41 -> 0 | H40: =H41 -> 0 | I40: =SUM(I41:I43) -> 0 | K40: =IF(D40=I40,"ok","errado") -> ok
D41: =D40 -> 0 | E41: P | F41: =$D$41*F43 -> 0 | G41: =$D$41*G43 -> 0 | H41: =$D$41*H43 -> 0 | I41: =SUM(F41:H41) -> 0 | K41: =IF(D41=I41,"ok","errado") -> ok
F42: =IF(F43<>0,"x","") | G42: =IF(G43<>0,"x","") | H42: =IF(H43<>0,"x","")
E43: % | F43: 0 | G43: 0 | H43: 0 | K43: =SUM(F43:H43) -> 0
C45: TOTAL MENSAL | F45: =F8+F12+F16+F20+F24+F28+F32+F36+F40 -> 0 | G45: =G8+G12+G16+G20+G24+G28+G32+G36+G40 -> 0 | H45: =H8+H12+H16+H20+H24+H28+H32+H36+H40 -> 0 | I45: =I8+I12+I16+I20+I24+I28+I32+I36+I40 -> 0
C46: PRECENTUAL MENSAL | F46: =F45/$I$45 -> #DIV/0! | G46: =G45/$I$45 -> #DIV/0! | H46: =H45/$I$45 -> #DIV/0! | I46: =SUM(F46:H46) -> #DIV/0!
C47: TOTAL ACUMULADO PREVISTO | F47: =F45 -> 0 | G47: =F47+G45 -> 0 | H47: =G47+H45 -> 0
C48: PERCENTUAL ACUMULADO PREVISTO | F48: =F46 -> #DIV/0! | G48: =F48+G46 -> #DIV/0! | H48: =G48+H46 -> #DIV/0!
